BEGIN:VCALENDAR
VERSION:2.0
PRODID:-//wp-events-plugin.com//7.0.5//EN
TZID:Europe/Berlin
X-WR-TIMEZONE:Europe/Berlin
BEGIN:VEVENT
UID:17@hebamme-patrizia.com
DTSTART;TZID=Europe/Berlin:20190110T183000
DTEND;TZID=Europe/Berlin:20190214T200000
DTSTAMP:20181230T204614Z
URL:https://www.hebamme-patrizia.com/events/rueckbildungs-pilates
SUMMARY:Rückbildungs- Pilates
DESCRIPTION:Was ist Pilates ?\nPilates ist ein Ganzkörper-Training\, welch
 es Atemtechnik\, Kraftübungen\, Koordination und Stretching kombiniert 
 – alles in harmonisch\, fließenden Bewegungen. Im Zentrum der Aufmerksa
 mkeit steht das Training der Körpermitte – des so genannten „Powerhou
 se“ – sowie der tiefliegenden Bauch- und Rumpfmuskulatur rund um die W
 irbelsäule. Das besondere Augenmerk liegt im Rückbildungspilates auf dem
  Beckenboden.\n\nWieso ist es für die Rückbildung geeignet?\nPilates ist
  ideal\, um den ganzen Körper ins Gleichgewicht zu bringen und um die eig
 ene „Mitte“ zu finden. Das Training ist sowohl muskel- als auch gelenk
 schonend\, da man ohne große Gewichte auskommt und Bewegungen bewusst lan
 gsam und harmonisch durchgeführt werden. Besonders nach der Geburt ist es
  wichtig die Muskeln wieder zu stärken\, die Körperhaltung zu stabilisie
 ren und die Gelenkbeweglichkeit zu steigern\, ohne den Körper übermäßi
 g zu belasten. Die Übungen werden langsam und sehr bewusst ausgeführt un
 d haben den Fokus auf der tiefen Muskulatur die dadurch angesteuert und wi
 eder aktiviert werden soll.\n\nDas Rückbildungspilates ist ein Aufbaukurs
 . Die Voraussetzung für die Teilnahme ist ein bereits abgeschlossener Rü
 ckbildungskurs.\n\nWir trainieren insgesamt 6x 90 Min.\nDie Kosten dafür 
 betragen 90€\n\nWir treffen uns an folgenden Terminen:\n\n1: 10.01.2019\
 n\n2:  17.01.2019\n\n3: 24.01.2019\n\n4: 31.01.2019\n\n5: 07.02.2019\n\n6
 :14.02.2019
CATEGORIES:Wochenbett
END:VEVENT
BEGIN:VTIMEZONE
TZID:Europe/Berlin
X-LIC-LOCATION:Europe/Berlin
BEGIN:STANDARD
DTSTART:20181028T020000
TZOFFSETFROM:+0200
TZOFFSETTO:+0100
TZNAME:CET
END:STANDARD
END:VTIMEZONE
END:VCALENDAR