BEGIN:VCALENDAR
VERSION:2.0
PRODID:-//wp-events-plugin.com//7.0.5//EN
TZID:Europe/Berlin
X-WR-TIMEZONE:Europe/Berlin
BEGIN:VEVENT
UID:78@hebamme-patrizia.com
DTSTART;TZID=Europe/Berlin:20210224T180000
DTEND;TZID=Europe/Berlin:20210407T190000
DTSTAMP:20201115T184049Z
URL:https://www.hebamme-patrizia.com/events/rueckbildung-mit-baby-2-3
SUMMARY:Rückbildung mit Baby 2
DESCRIPTION:Der Körper wir durch eine Geburt sehr beansprucht\, umso wicht
 iger ist es\, ihn nach der Geburt wieder in Form zu bringen. Wir trainiere
 n gemeinsam Ihren Beckenboden\, die Rumpf- und Rückenmuskulatur und die G
 esäß- und Beinmuskulatur um sich wieder fit und gestärkt zu fühlen.\n\
 nAufgrund der aktuellen Corona Situation findet der Kurs online in Form ei
 nes Zoom Meetings statt.\n\nSie benötigen einen Gymnastikball und eine Yo
 gamatte.\n\nWeitere Informationen folgen ca. eine Woche vor Kursbeginn\n\n
 Falls Sie von einer anderen Hebamme betreut werden\, bitte ich Sie sich vo
 rab per Email nach einem Platz zu erkundigen.\n\nDer Kurs findet Mittwochs
  um 18 Uhr an folgenden Terminen statt:\n\n 	24.02.2020\n 	03.03.2020\n 	1
 0.03.2020\n 	17.03.2020\n 	31.03.2020\n 	07.04.2020\n\n&nbsp\;
CATEGORIES:Wochenbett
END:VEVENT
BEGIN:VTIMEZONE
TZID:Europe/Berlin
X-LIC-LOCATION:Europe/Berlin
BEGIN:STANDARD
DTSTART:20201025T020000
TZOFFSETFROM:+0200
TZOFFSETTO:+0100
TZNAME:CET
END:STANDARD
BEGIN:DAYLIGHT
DTSTART:20210328T030000
TZOFFSETFROM:+0100
TZOFFSETTO:+0200
TZNAME:CEST
END:DAYLIGHT
END:VTIMEZONE
END:VCALENDAR