BEGIN:VCALENDAR
VERSION:2.0
PRODID:-//wp-events-plugin.com//7.0.5//EN
TZID:Europe/Berlin
X-WR-TIMEZONE:Europe/Berlin
BEGIN:VEVENT
UID:11@hebamme-patrizia.com
DTSTART;TZID=Europe/Berlin:20181113T190000
DTEND;TZID=Europe/Berlin:20181113T210000
DTSTAMP:20181102T223554Z
URL:https://www.hebamme-patrizia.com/events/geburtsvorbereitung
SUMMARY:Geburtsvorbereitung
DESCRIPTION:Mit zunehmender Größe des Bauches wächst das Bedürfnis\, si
 ch auf das Ereignis der Geburt und auf das Leben mit dem Kind einzustimmen
 . Mit zahlreichen Informationen\, Atmungs- und Entspannungsübungen\, möc
 hte ich Ihnen helfen\, sich auf die kommende Zeit vorzubereiten und ggf. I
 hre Ängste und die Ihres Partners zu nehmen.\n\nAn drei Abenden ist auch 
 Ihr Partner herzlich willkommen.\n\nDer Kurs findet insgesamt 6x a 2h imme
 r von 19 – 21 Uhr an folgenden Terminen statt:\n\n1:  13.11.2018\n\n2: 
 20.11.2018\n\n3: 27.11.2018 ( Partnerabend)\n\n4: 04.12.2018 ( Partneraben
 d)\n\n5: 11.12.2018 ( Partnerabend)\n\n6: 18.12.2018\n\n&nbsp\;\n\n&nbsp\;
CATEGORIES:Schwangerschaft
END:VEVENT
BEGIN:VTIMEZONE
TZID:Europe/Berlin
X-LIC-LOCATION:Europe/Berlin
BEGIN:STANDARD
DTSTART:20181028T020000
TZOFFSETFROM:+0200
TZOFFSETTO:+0100
TZNAME:CET
END:STANDARD
END:VTIMEZONE
END:VCALENDAR