BEGIN:VCALENDAR
VERSION:2.0
PRODID:-//wp-events-plugin.com//7.0.5//EN
TZID:Europe/Berlin
X-WR-TIMEZONE:Europe/Berlin
BEGIN:VEVENT
UID:36@hebamme-patrizia.com
DTSTART;TZID=Europe/Berlin:20191114T190000
DTEND;TZID=Europe/Berlin:20191217T210000
DTSTAMP:20190911T083747Z
URL:https://www.hebamme-patrizia.com/events/geburtsvorbereitung-7
SUMMARY:Geburtsvorbereitung 7
DESCRIPTION:Mit zunehmender Größe des Bauches wächst das Bedürfnis\, si
 ch auf das Ereignis der Geburt und auf das Leben mit dem Kind einzustimmen
 . Mit zahlreichen Informationen\, Atmungs- und Entspannungsübungen\, möc
 hte ich Ihnen helfen\, sich auf die kommende Zeit vorzubereiten und ggf. I
 hre Ängste und die Ihres Partners zu nehmen.\n\nAn drei Abenden ist auch 
 Ihr Partner herzlich willkommen.\n\nDer Kurs findet insgesamt 6x a 2h imme
 r von 19 – 21 Uhr an folgenden Terminen statt:\n\n1:  14.11.2019\n\n2: 
 19.11.2019\n\n3: 26.11.2019 ( Partnerabend)\n\n4: 03.12.2019( Partnerabend
 )\n\n5: 10.12.2019 ( Partnerabend)\n\n6: 17.12.2019\n\n&nbsp\;\n\n&nbsp\;
CATEGORIES:Schwangerschaft
END:VEVENT
BEGIN:VTIMEZONE
TZID:Europe/Berlin
X-LIC-LOCATION:Europe/Berlin
BEGIN:STANDARD
DTSTART:20191027T020000
TZOFFSETFROM:+0200
TZOFFSETTO:+0100
TZNAME:CET
END:STANDARD
END:VTIMEZONE
END:VCALENDAR